BEGIN:VCALENDAR
VERSION:2.0
PRODID:-//Société astronomique de France - ECPv6.8.3//NONSGML v1.0//EN
CALSCALE:GREGORIAN
METHOD:PUBLISH
X-ORIGINAL-URL:https://saf-astronomie.fr
X-WR-CALDESC:Évènements pour Société astronomique de France
REFRESH-INTERVAL;VALUE=DURATION:PT1H
X-Robots-Tag:noindex
X-PUBLISHED-TTL:PT1H
BEGIN:VTIMEZONE
TZID:Europe/Paris
BEGIN:DAYLIGHT
TZOFFSETFROM:+0100
TZOFFSETTO:+0200
TZNAME:CEST
DTSTART:20260329T010000
END:DAYLIGHT
BEGIN:STANDARD
TZOFFSETFROM:+0200
TZOFFSETTO:+0100
TZNAME:CET
DTSTART:20261025T010000
END:STANDARD
END:VTIMEZONE
BEGIN:VEVENT
DTSTART;TZID=Europe/Paris:20260425T210000
DTEND;TZID=Europe/Paris:20260425T223000
DTSTAMP:20260425T185859
CREATED:20260420T095301Z
LAST-MODIFIED:20260422T204601Z
UID:81885-1777150800-1777156200@saf-astronomie.fr
SUMMARY:Les sentinelles du ciel profond
DESCRIPTION:par Benoît Reeves\, médiateur scientifique\, membre du Conseil d’administration de la SAF \nConférence organisée par l’Observatoire astronomique de l’Eaubonne\, dans le cadre du Weekend d’astronomie pour les 20 ans de l’observatoire. \nEntrée payante. \nRéservation \nVignette : ESO/G. Beccari
URL:https://saf-astronomie.fr/event/les-sentinelles-du-ciel-profond/
LOCATION:Salle des fêtes de Birac-sur-Trec\, Route de Tillon\, Birac-sur-Trec\, 47200
CATEGORIES:Conférences,Régions
ATTACH;FMTTYPE=image/png:https://saf-astronomie.fr/wp-content/uploads/2024/09/NGC-3532-845x475-1.png
END:VEVENT
BEGIN:VEVENT
DTSTART;TZID=Europe/Paris:20260507T190000
DTEND;TZID=Europe/Paris:20260507T200000
DTSTAMP:20260425T185859
CREATED:20250916T191241Z
LAST-MODIFIED:20250916T192118Z
UID:77394-1778180400-1778184000@saf-astronomie.fr
SUMMARY:Le système solaire et ses petits corps
DESCRIPTION:Cours de Danielle Briot \n#9 Les objets visiteurs \nInscription : https://saf-astronomie.fr/cours/ \nVignette : NASA
URL:https://saf-astronomie.fr/event/le-systeme-solaire-et-ses-petits-corps/
LOCATION:Siège de la SAF\, 3 rue Beethoven\, Paris\, 75016
CATEGORIES:Cours et ateliers
ATTACH;FMTTYPE=image/jpeg:https://saf-astronomie.fr/wp-content/uploads/2025/08/nasa-solar-system-845x475-1.jpeg
END:VEVENT
BEGIN:VEVENT
DTSTART;VALUE=DATE:20260508
DTEND;VALUE=DATE:20260511
DTSTAMP:20260425T185859
CREATED:20251220T075633Z
LAST-MODIFIED:20260422T204533Z
UID:78660-1778198400-1778457599@saf-astronomie.fr
SUMMARY:WAPP
DESCRIPTION:Trois jours de formations et ateliers en astrophysique\, organisés par MP-G2A. \nInscription \nEn partenariat avec la SAF. \n \nVignette : ESA/Webb\, NASA & CSA\, J. H. Kastner (Rochester Institute of Technology)
URL:https://saf-astronomie.fr/event/wapp/
LOCATION:Centre de vacances Oxygers\, 50 route de Jezeau\, Arreau\, 65240
CATEGORIES:Cours et ateliers,Régions
ATTACH;FMTTYPE=image/png:https://saf-astronomie.fr/wp-content/uploads/2025/12/red-spider-845x475-1.png
END:VEVENT
BEGIN:VEVENT
DTSTART;TZID=Europe/Paris:20260520T190000
DTEND;TZID=Europe/Paris:20260520T203000
DTSTAMP:20260425T185859
CREATED:20251017T090208Z
LAST-MODIFIED:20251017T090208Z
UID:77775-1779303600-1779309000@saf-astronomie.fr
SUMMARY:Et si\, la Terre était ailleurs ?
DESCRIPTION:par Roland Lehoucq\, astrophysicien CEA\, président de la SAF \nConférence mensuelle. \nRéservation obligatoire. \nRetransmission en direct. \nVignette : NASA
URL:https://saf-astronomie.fr/event/et-si-la-terre-etait-ailleurs/
LOCATION:Conservatoire national des arts et métiers (CNAM)\, 292 rue Saint Martin\, Paris\, 75003
CATEGORIES:Conférences
ATTACH;FMTTYPE=image/jpeg:https://saf-astronomie.fr/wp-content/uploads/2025/10/trappist1b-845x475-1.jpg
END:VEVENT
BEGIN:VEVENT
DTSTART;TZID=Europe/Paris:20260522T183000
DTEND;TZID=Europe/Paris:20260522T200000
DTSTAMP:20260425T185859
CREATED:20260116T203741Z
LAST-MODIFIED:20260329T105856Z
UID:79120-1779474600-1779480000@saf-astronomie.fr
SUMMARY:Assemblée générale
DESCRIPTION:  \nVignette : ESA/Hubble & NASA
URL:https://saf-astronomie.fr/event/assemblee-generale/
LOCATION:Siège de la SAF\, 3 rue Beethoven\, Paris\, 75016
CATEGORIES:Prix et vie de la SAF
ATTACH;FMTTYPE=image/png:https://saf-astronomie.fr/wp-content/uploads/2024/09/amas-845x475-1.png
END:VEVENT
BEGIN:VEVENT
DTSTART;VALUE=DATE:20260523
DTEND;VALUE=DATE:20260524
DTSTAMP:20260425T185859
CREATED:20260116T203923Z
LAST-MODIFIED:20260116T203923Z
UID:79124-1779494400-1779580799@saf-astronomie.fr
SUMMARY:Journée des Commissions
DESCRIPTION:Plus d’infos à venir. \nVignette : ESO/G. Beccari
URL:https://saf-astronomie.fr/event/journee-des-commissions/
CATEGORIES:Commissions,Prix et vie de la SAF
ATTACH;FMTTYPE=image/png:https://saf-astronomie.fr/wp-content/uploads/2024/09/NGC-3532-845x475-1.png
END:VEVENT
BEGIN:VEVENT
DTSTART;VALUE=DATE:20260530
DTEND;VALUE=DATE:20260601
DTSTAMP:20260425T185859
CREATED:20260308T215656Z
LAST-MODIFIED:20260312T163827Z
UID:80331-1780099200-1780271999@saf-astronomie.fr
SUMMARY:Réunion de la Commission des Cadrans solaires
DESCRIPTION:Réunion de printemps. \nhttps://ccs.saf-astronomie.fr/ \nVignette : CCS
URL:https://saf-astronomie.fr/event/reunion-de-la-commission-des-cadrans-solaires/
LOCATION:Nantes\, 44000
CATEGORIES:Commissions,Régions
ATTACH;FMTTYPE=image/jpeg:https://saf-astronomie.fr/wp-content/uploads/2026/03/cadran-845x475-1.jpg
END:VEVENT
BEGIN:VEVENT
DTSTART;TZID=Europe/Paris:20260604T190000
DTEND;TZID=Europe/Paris:20260604T200000
DTSTAMP:20260425T185859
CREATED:20251012T154523Z
LAST-MODIFIED:20251012T154533Z
UID:77670-1780599600-1780603200@saf-astronomie.fr
SUMMARY:Photométrie cycle 3
DESCRIPTION:Cours de Thierry Midavaine. \nInscription : https://saf-astronomie.fr/cours/ \nVignette : CTIO/NOIRLab/DOE/NSF/AURA
URL:https://saf-astronomie.fr/event/photometrie-cycle-3-6/
LOCATION:Siège de la SAF\, 3 rue Beethoven\, Paris\, 75016
CATEGORIES:Cours et ateliers
ATTACH;FMTTYPE=image/jpeg:https://saf-astronomie.fr/wp-content/uploads/2025/10/coma-845x475-1.jpg
END:VEVENT
BEGIN:VEVENT
DTSTART;VALUE=DATE:20260606
DTEND;VALUE=DATE:20260608
DTSTAMP:20260425T185859
CREATED:20260225T112400Z
LAST-MODIFIED:20260225T112415Z
UID:80187-1780704000-1780876799@saf-astronomie.fr
SUMMARY:Journées Camille Flammarion
DESCRIPTION:Visites guidées de la coupole de l’observatoire Camille Flammarion.
URL:https://saf-astronomie.fr/event/journees-camille-flammarion/
LOCATION:Observatoire Camille Flammarion\, 32 avenue de la Cour de France\, Juvisy-sur Orge\, 91260
CATEGORIES:Festivités,Observatoire de Juvisy
ATTACH;FMTTYPE=image/jpeg:https://saf-astronomie.fr/wp-content/uploads/2026/02/juvisy-845x475-1.jpg
END:VEVENT
BEGIN:VEVENT
DTSTART;TZID=Europe/Paris:20260610T190000
DTEND;TZID=Europe/Paris:20260610T203000
DTSTAMP:20260425T185859
CREATED:20251107T172827Z
LAST-MODIFIED:20251107T172827Z
UID:78104-1781118000-1781123400@saf-astronomie.fr
SUMMARY:À la recherche de mondes habitables dans le cosmos
DESCRIPTION:par Athena Coustenis et Thérèse Encrenaz\, astrophysiciennes à l’Observatoire de Paris \nConférence mensuelle. \nRéservation obligatoire. \nRetransmission en direct. \nVignette : NASA\, ESA\, Leah Hustak et Ralf Crawford (STScI)
URL:https://saf-astronomie.fr/event/a-la-recherche-de-mondes-habitables-dans-le-cosmos/
LOCATION:Conservatoire national des arts et métiers (CNAM)\, 292 rue Saint Martin\, Paris\, 75003
CATEGORIES:Conférences
ATTACH;FMTTYPE=image/jpeg:https://saf-astronomie.fr/wp-content/uploads/2025/11/Exoplanet_GJ_9827d_artist_s_concept.jpg
END:VEVENT
BEGIN:VEVENT
DTSTART;VALUE=DATE:20260619
DTEND;VALUE=DATE:20260622
DTSTAMP:20260425T185859
CREATED:20250611T053509Z
LAST-MODIFIED:20260422T204439Z
UID:76230-1781827200-1782086399@saf-astronomie.fr
SUMMARY:On the Moon Again 2026
DESCRIPTION:Vous avez un instrument d’observation\, installez le au coin d’une rue\, au bord d’une rivière\, sur la place d’un village… Rejoignez l’événement On the Moon Again les 19\, 20 et 21 juin 2026 et invitez les passants à observer la Lune et partager l’émerveillement. \nLes inscriptions sont ouvertes : \nwww.onthemoonagain.org \nAvec le soutien de la SAF.
URL:https://saf-astronomie.fr/event/on-the-moon-again-2026/
CATEGORIES:Festivités,Régions
ATTACH;FMTTYPE=image/jpeg:https://saf-astronomie.fr/wp-content/uploads/2025/01/OTMA-845x475-1.jpg
END:VEVENT
BEGIN:VEVENT
DTSTART;VALUE=DATE:20260625
DTEND;VALUE=DATE:20260626
DTSTAMP:20260425T185859
CREATED:20260205T140338Z
LAST-MODIFIED:20260205T140718Z
UID:79657-1782345600-1782431999@saf-astronomie.fr
SUMMARY:Atelier Gemini
DESCRIPTION:Plus d’infos a venir. \nVignette : ESA/Webb\, NASA & CSA\, V. Almendros-Abad\, M. Guarcello\, K. Monsch\, EWOCS team
URL:https://saf-astronomie.fr/event/atelier-gemini/
LOCATION:Grenoble\, Grenoble\, 38000
CATEGORIES:Cours et ateliers,Pro-Am,Régions
ATTACH;FMTTYPE=image/jpeg:https://saf-astronomie.fr/wp-content/uploads/2026/02/Westerlund-2-845x475-1.jpg
END:VEVENT
BEGIN:VEVENT
DTSTART;VALUE=DATE:20260626
DTEND;VALUE=DATE:20260628
DTSTAMP:20260425T185859
CREATED:20260205T140638Z
LAST-MODIFIED:20260205T140638Z
UID:79666-1782432000-1782604799@saf-astronomie.fr
SUMMARY:École de photométrie
DESCRIPTION:Plus d’infos à venir. \nVignette : ESA/Webb\, NASA & CSA\, V. Almendros-Abad\, M. Guarcello\, K. Monsch\, EWOCS team
URL:https://saf-astronomie.fr/event/ecole-de-photometrie/
LOCATION:Grenoble\, Grenoble\, 38000
CATEGORIES:Cours et ateliers,Pro-Am,Régions
ATTACH;FMTTYPE=image/jpeg:https://saf-astronomie.fr/wp-content/uploads/2026/02/Westerlund-2-845x475-1.jpg
END:VEVENT
BEGIN:VEVENT
DTSTART;VALUE=DATE:20260716
DTEND;VALUE=DATE:20260720
DTSTAMP:20260425T185859
CREATED:20260217T184416Z
LAST-MODIFIED:20260420T163842Z
UID:80056-1784160000-1784505599@saf-astronomie.fr
SUMMARY:Festival de Tautavel
DESCRIPTION:Plus d’infos :\n@astrotavel sur Facebook \n\nVignette : NASA\, ESA\, Bruce Balick (UWashington)
URL:https://saf-astronomie.fr/event/festival-de-tautavel/
LOCATION:Tautavel\, Tautavel\, 66720
CATEGORIES:Festivités,Régions,Rencontres et observations
ATTACH;FMTTYPE=image/png:https://saf-astronomie.fr/wp-content/uploads/2026/02/CRL-2688-845x475-1.png
END:VEVENT
BEGIN:VEVENT
DTSTART;VALUE=DATE:20260717
DTEND;VALUE=DATE:20260720
DTSTAMP:20260425T185859
CREATED:20260418T093109Z
LAST-MODIFIED:20260422T204411Z
UID:81870-1784246400-1784505599@saf-astronomie.fr
SUMMARY:AstroValberg
DESCRIPTION:Festival d’astronomie organisé par le département des Alpes-Maritimes à la station de Valberg. \nEn partenariat avec la SAF. \nPlus d’infos \n  \n \nCrédit : NASA\, ESA\, CSA\, STScI\, Klaus Pontoppidan (NASA-JPL)\, Joel Green (STScI) ; traitement : Alyssa Pagan (STScI)
URL:https://saf-astronomie.fr/event/astrovalberg/
LOCATION:Station de Valberg\, Guillaumes\, 06470
CATEGORIES:Festivités,Régions
ATTACH;FMTTYPE=image/jpeg:https://saf-astronomie.fr/wp-content/uploads/2026/04/serpens-845-x-475.jpg
END:VEVENT
BEGIN:VEVENT
DTSTART;VALUE=DATE:20260719
DTEND;VALUE=DATE:20260724
DTSTAMP:20260425T185859
CREATED:20260316T212802Z
LAST-MODIFIED:20260422T112736Z
UID:80439-1784419200-1784851199@saf-astronomie.fr
SUMMARY:Congrès international ICAY
DESCRIPTION:Le Congrès offrira aux étudiants et aux chercheurs l’opportunité de partager leurs travaux et leurs idées. Ils viendront des quatre coins du monde\, chacun représentant la diversité culturelle et scientifique de son pays. Conférences\, tables rondes et visites de sites emblématiques de l’astronomie se succéderont\, afin de construire ensemble des liens forts et de nouveaux projets internationaux. De plus\, un gala sera organisé pour permettre à chacun de se rencontrer facilement dans une ambiance chaleureuse. \nInscription et infos \nVignette : NASA\, ESA\, CSA\, STScI\, Adam Ginsburg (Université de Floride)\, Nazar Budaiev (Université de Floride)\, Taehwa Yoo
URL:https://saf-astronomie.fr/event/congres-international/
LOCATION:Université Cadi Ayyad\, Bd Abdelkrim Al Khattabi\, Marakkech\, 40000\, Morocco
CATEGORIES:Conférences
ATTACH;FMTTYPE=image/jpeg:https://saf-astronomie.fr/wp-content/uploads/2026/03/Sag-B2-845x475-1.jpg
END:VEVENT
BEGIN:VEVENT
DTSTART;VALUE=DATE:20260731
DTEND;VALUE=DATE:20260808
DTSTAMP:20260425T185859
CREATED:20260217T183827Z
LAST-MODIFIED:20260326T155921Z
UID:80050-1785456000-1786147199@saf-astronomie.fr
SUMMARY:Festival d'astronomie de Fleurance
DESCRIPTION:Avec le soutien de la SAF. \nProgramme sur : festival-astronomie.fr \n \nVignette : NASA\, ESA\, CSA\, STScI\, CXC \n 
URL:https://saf-astronomie.fr/event/festival-dastronomie-de-fleurance/
LOCATION:Fleurance\, Fleurance\, 32132
CATEGORIES:Festivités,Régions
ATTACH;FMTTYPE=image/jpeg:https://saf-astronomie.fr/wp-content/uploads/2025/11/bullet-845x475-1.jpg
END:VEVENT
BEGIN:VEVENT
DTSTART;VALUE=DATE:20260805
DTEND;VALUE=DATE:20260823
DTSTAMP:20260425T185859
CREATED:20260108T092722Z
LAST-MODIFIED:20260108T115719Z
UID:78961-1785888000-1787443199@saf-astronomie.fr
SUMMARY:Rencontres AstroCiel
DESCRIPTION:Les inscriptions pour AstroCiel 2026 seront ouvertes du 15/05/2026 au 15/06/2026 sur la page https://saf-astronomie.fr/astrociel/
URL:https://saf-astronomie.fr/event/rencontres-astrociel/
LOCATION:Domaine de Pradines\, Route de Millau D28\, Lanuéjols\, 30750
CATEGORIES:Régions,Rencontres et observations
ATTACH;FMTTYPE=image/jpeg:https://saf-astronomie.fr/wp-content/uploads/2026/01/AstroCiel-2025-845x475-1.jpg
END:VEVENT
BEGIN:VEVENT
DTSTART;VALUE=DATE:20260814
DTEND;VALUE=DATE:20260817
DTSTAMP:20260425T185859
CREATED:20260217T184752Z
LAST-MODIFIED:20260217T184947Z
UID:80061-1786665600-1786924799@saf-astronomie.fr
SUMMARY:Le off de Tautavel
DESCRIPTION:Plus d’infos :\n@astrotavel sur Facebook \n\nVignette : NASA\, ESA\, Bruce Balick (UWashington)
URL:https://saf-astronomie.fr/event/le-off-de-tautavel/
LOCATION:Mantet\, 66360
CATEGORIES:Festivités,Régions,Rencontres et observations
ATTACH;FMTTYPE=image/png:https://saf-astronomie.fr/wp-content/uploads/2026/02/CRL-2688-845x475-1.png
END:VEVENT
BEGIN:VEVENT
DTSTART;VALUE=DATE:20260821
DTEND;VALUE=DATE:20260826
DTSTAMP:20260425T185859
CREATED:20260422T203701Z
LAST-MODIFIED:20260422T203759Z
UID:81978-1787270400-1787702399@saf-astronomie.fr
SUMMARY:Symposium ESOP
DESCRIPTION:Réunion annuelle sur les occultations stellaires. \nSur inscription. \nPlus d’infos : esop45.iota-es.de \n \nVignette : KuriwaObs\, CC BY-SA 4.0 <https://creativecommons.org/licenses/by-sa/4.0>\, via Wikimedia Commons
URL:https://saf-astronomie.fr/event/symposium-esop/
LOCATION:Observatoire Midi-Pyrenées\, 14 avenue Édouard-Belin\, Toulouse\, 31400
CATEGORIES:Régions,Rencontres et observations
ATTACH;FMTTYPE=image/jpeg:https://saf-astronomie.fr/wp-content/uploads/2026/04/courbe-845x475-1.jpg
END:VEVENT
BEGIN:VEVENT
DTSTART;VALUE=DATE:20261017
DTEND;VALUE=DATE:20261019
DTSTAMP:20260425T185859
CREATED:20260322T111646Z
LAST-MODIFIED:20260322T111646Z
UID:80590-1792195200-1792367999@saf-astronomie.fr
SUMMARY:Réunion de la Commission Histoire de l'Astronomie
DESCRIPTION:Réunion d’automne au siège. \nVignette : l’Astronomie
URL:https://saf-astronomie.fr/event/reunion-de-la-commission-histoire-de-lastronomie/
LOCATION:Siège de la SAF\, 3 rue Beethoven\, Paris\, 75016
CATEGORIES:Commissions
ATTACH;FMTTYPE=image/jpeg:https://saf-astronomie.fr/wp-content/uploads/2026/03/mesure-845x475-1.jpg
END:VEVENT
BEGIN:VEVENT
DTSTART;VALUE=DATE:20261024
DTEND;VALUE=DATE:20261026
DTSTAMP:20260425T185859
CREATED:20260112T093329Z
LAST-MODIFIED:20260112T093359Z
UID:79056-1792800000-1792972799@saf-astronomie.fr
SUMMARY:Réunion CED
DESCRIPTION:Réunion d’automne de la Commission des étoiles doubles. \nÀ Strasbourg (lieu à préciser) et sur zoom. \nVignette : ESO/spaceengine.org
URL:https://saf-astronomie.fr/event/reunion-ced-automne/
CATEGORIES:Commissions,Régions
ATTACH;FMTTYPE=image/png:https://saf-astronomie.fr/wp-content/uploads/2026/01/CED-845x475-1.png
END:VEVENT
BEGIN:VEVENT
DTSTART;VALUE=DATE:20261113
DTEND;VALUE=DATE:20261116
DTSTAMP:20260425T185859
CREATED:20260422T204317Z
LAST-MODIFIED:20260422T204317Z
UID:81992-1794528000-1794787199@saf-astronomie.fr
SUMMARY:Rencontres du Ciel et de l'Espace
DESCRIPTION:Stand de la SAF et de l’Astronomie. \nVignette : ESO/G. Beccari
URL:https://saf-astronomie.fr/event/rencontres-du-ciel-et-de-lespace/
LOCATION:Cité des sciences et de l’industrie\, 30\, avenue Corentin-Cariou\, Paris\, 75019
CATEGORIES:Rencontres et observations
ATTACH;FMTTYPE=image/png:https://saf-astronomie.fr/wp-content/uploads/2024/09/NGC-3532-845x475-1.png
END:VEVENT
END:VCALENDAR