BEGIN:VCALENDAR
VERSION:2.0
PRODID:-//Société astronomique de France - ECPv6.8.3//NONSGML v1.0//EN
CALSCALE:GREGORIAN
METHOD:PUBLISH
X-ORIGINAL-URL:https://saf-astronomie.fr
X-WR-CALDESC:Évènements pour Société astronomique de France
REFRESH-INTERVAL;VALUE=DURATION:PT1H
X-Robots-Tag:noindex
X-PUBLISHED-TTL:PT1H
BEGIN:VTIMEZONE
TZID:Europe/Paris
BEGIN:DAYLIGHT
TZOFFSETFROM:+0100
TZOFFSETTO:+0200
TZNAME:CEST
DTSTART:20260329T010000
END:DAYLIGHT
BEGIN:STANDARD
TZOFFSETFROM:+0200
TZOFFSETTO:+0100
TZNAME:CET
DTSTART:20261025T010000
END:STANDARD
END:VTIMEZONE
BEGIN:VEVENT
DTSTART;TZID=Europe/Paris:20260418T133000
DTEND;TZID=Europe/Paris:20260418T183000
DTSTAMP:20260421T040732
CREATED:20260406T094243Z
LAST-MODIFIED:20260406T094440Z
UID:81643-1776519000-1776537000@saf-astronomie.fr
SUMMARY:Méga star party
DESCRIPTION:Plus d’infos \n\nVignette : ESA/Hubble & NASA
URL:https://saf-astronomie.fr/event/mega-star-party/
LOCATION:Parc aux étoiles\, 2\, rue de la Chapelle\, Triel-sur-Seine\, 78510
CATEGORIES:Conférences,Festivités,Rencontres et observations
ATTACH;FMTTYPE=image/png:https://saf-astronomie.fr/wp-content/uploads/2024/09/amas-845x475-1.png
END:VEVENT
BEGIN:VEVENT
DTSTART;TZID=Europe/Paris:20260414T180000
DTEND;TZID=Europe/Paris:20260414T200000
DTSTAMP:20260421T040732
CREATED:20251207T164757Z
LAST-MODIFIED:20260401T071905Z
UID:78408-1776189600-1776196800@saf-astronomie.fr
SUMMARY:Géométrie différentielle
DESCRIPTION:Bases de la géométrie différentielle pour la relativité générale. Cours de Stéphane Collion. \nInscription et renseignements : https://saf-astronomie.fr/cours/ \nVignette : NASA\, ESA\, H. Teplitz\, M. Rafelski (IPAC/Caltech)\, A. Koekemoer (STScI)\, R. Windhorst (Arizona State University)\, Z. Levay (STScI)
URL:https://saf-astronomie.fr/event/geometrie-differentielle-3/
LOCATION:Siège de la SAF\, 3 rue Beethoven\, Paris\, 75016
CATEGORIES:Cours et ateliers
ATTACH;FMTTYPE=image/png:https://saf-astronomie.fr/wp-content/uploads/2024/08/conf-oct-845x475-1.png
END:VEVENT
BEGIN:VEVENT
DTSTART;TZID=Europe/Paris:20260409T123000
DTEND;TZID=Europe/Paris:20260409T143000
DTSTAMP:20260421T040732
CREATED:20260404T060404Z
LAST-MODIFIED:20260404T060438Z
UID:81544-1775737800-1775745000@saf-astronomie.fr
SUMMARY:En direct avec Sophie Adenot
DESCRIPTION:Le jeudi 9 avril 2026\, l’Académie Spatiale d’Île-de-France et l’OVSQ co-organisent un événement dont le point d’orgue sera la retransmission en direct du contact radio établi par l’Université Paris-Saclay avec Sophie Adenot\, astronaute française actuellement à bord de la Station Spatiale Internationale. \nPendant cet échange\, des étudiantes et étudiants de l’université mais aussi des élèves du collège Albert Camus de La Norville (Essonne) poseront leurs questions à Sophie Adenot. L’événement sera retransmis en direct sur la chaîne YouTube de l’Université Paris-Saclay\, ainsi que sur plusieurs campus\, notamment ceux de l’UVSQ et de l’UPEC avec l’Académie Spatiale. La séance sera animée par Hervé Dole\, professeur à l’Université Paris-Saclay\, et Gilles Dawidowicz\, vice-président de la Société astronomique de France. \nGratuit sur inscription. \nLa SAF est partenaire de l’événement. \nPlus d’infos et inscription \n 
URL:https://saf-astronomie.fr/event/en-direct-avec-sophie-adenot/
LOCATION:OVSQ\, 11 boulevard d’Alembert\, Guyancourt\, 78280
CATEGORIES:Conférences
ATTACH;FMTTYPE=image/jpeg:https://saf-astronomie.fr/wp-content/uploads/2026/04/Sophie-Adenot-845-x475.jpg
END:VEVENT
BEGIN:VEVENT
DTSTART;TZID=Europe/Paris:20260408T190000
DTEND;TZID=Europe/Paris:20260408T203000
DTSTAMP:20260421T040732
CREATED:20251101T194454Z
LAST-MODIFIED:20251101T195342Z
UID:78038-1775674800-1775680200@saf-astronomie.fr
SUMMARY:Les rêves de l’origine
DESCRIPTION:par Jean Marc Bonnet-Bidaud\, astrophysicien CEA \nConférence mensuelle. \nRéservation obligatoire. \nRetransmission en direct. \nVignette : NSF–DOE Vera C. Rubin Observatory
URL:https://saf-astronomie.fr/event/les-reves-de-lorigine/
LOCATION:Conservatoire national des arts et métiers (CNAM)\, 292 rue Saint Martin\, Paris\, 75003
CATEGORIES:Conférences
ATTACH;FMTTYPE=image/jpeg:https://saf-astronomie.fr/wp-content/uploads/2025/11/galaxies-845x475-1.jpg
END:VEVENT
BEGIN:VEVENT
DTSTART;TZID=Europe/Paris:20260404T153000
DTEND;TZID=Europe/Paris:20260404T170000
DTSTAMP:20260421T040732
CREATED:20251215T181402Z
LAST-MODIFIED:20251215T182159Z
UID:78599-1775316600-1775322000@saf-astronomie.fr
SUMMARY:Explorons la physique d’Interstellar
DESCRIPTION:par Roland Lehoucq\, astrophysicien CEA\, président de la SAF \nDans le cadre des Rencontres astronomiques de Courrières\, organisées par le Groupement d’astronomes amateurs Courriérois. \nVignette : NASA
URL:https://saf-astronomie.fr/event/explorons-la-physique-dinterstellar/
LOCATION:Centre culturel de Courrières\, rue Aristide Briand\, Courrières\, 62710\, France
CATEGORIES:Festivités
ATTACH;FMTTYPE=image/png:https://saf-astronomie.fr/wp-content/uploads/2024/10/interstellar-845x475-1.png
END:VEVENT
BEGIN:VEVENT
DTSTART;VALUE=DATE:20260403
DTEND;VALUE=DATE:20260405
DTSTAMP:20260421T040732
CREATED:20260121T075126Z
LAST-MODIFIED:20260206T104347Z
UID:79194-1775174400-1775347199@saf-astronomie.fr
SUMMARY:Weekend de l'espace
DESCRIPTION:3ème édition. Vendredi : scolaires. Samedi : tout public (de 10 h à 19 h). Animations\, conférence\, jeu-concours. Entrée libre et gratuite. \nFestival organisé par l’association Andromède 4A et le Musée du scaphandre. La SAF y tiendra un stand. \n \nVignette : ESA\, NASA
URL:https://saf-astronomie.fr/event/weekend-de-lespace/
LOCATION:Fablab\, 99 rue d’Estaing\, Espalion\, 12500
CATEGORIES:Festivités,Régions
ATTACH;FMTTYPE=image/jpeg:https://saf-astronomie.fr/wp-content/uploads/2026/01/Sophie-Adenot-845x475-1.jpg
END:VEVENT
BEGIN:VEVENT
DTSTART;TZID=Europe/Paris:20260402T190000
DTEND;TZID=Europe/Paris:20260402T200000
DTSTAMP:20260421T040732
CREATED:20250916T191105Z
LAST-MODIFIED:20250916T192031Z
UID:77390-1775156400-1775160000@saf-astronomie.fr
SUMMARY:Le système solaire et ses petits corps
DESCRIPTION:Cours de Danielle Briot \n#8 Les météorites \nInscription : https://saf-astronomie.fr/cours/ \nVignette : NASA
URL:https://saf-astronomie.fr/event/le-systeme-solaire-et-ses-petits-corps-8/
LOCATION:Siège de la SAF\, 3 rue Beethoven\, Paris\, 75016
CATEGORIES:Cours et ateliers
ATTACH;FMTTYPE=image/jpeg:https://saf-astronomie.fr/wp-content/uploads/2025/08/nasa-solar-system-845x475-1.jpeg
END:VEVENT
BEGIN:VEVENT
DTSTART;TZID=Europe/Paris:20260401T183000
DTEND;TZID=Europe/Paris:20260401T200000
DTSTAMP:20260421T040732
CREATED:20260322T110149Z
LAST-MODIFIED:20260322T110149Z
UID:80580-1775068200-1775073600@saf-astronomie.fr
SUMMARY:Comètes\, archives du Système solaire
DESCRIPTION:par Karl Antier\, géophysicien et médiateur scientifique\, président de la commission Météores\, Météorites et Impactisme de la Société Astronomique de France\, membre de l’International Meteor Organization \nConférence organisée par l’Observatoire Astronomique du Gros Cerveau – Club d’astronomie VEGA. \nAccès gratuit. \nVignette : Nicolas Biver
URL:https://saf-astronomie.fr/event/cometes-archives-du-systeme-solaire-oagc/
LOCATION:Espace Brémond\, 4 rue Loutin\, Ollioules\, 83190
CATEGORIES:Conférences,Régions
ATTACH;FMTTYPE=image/jpeg:https://saf-astronomie.fr/wp-content/uploads/2026/02/neowise-845x475-1.jpg
END:VEVENT
BEGIN:VEVENT
DTSTART;TZID=Europe/Paris:20260328T210000
DTEND;TZID=Europe/Paris:20260328T223000
DTSTAMP:20260421T040732
CREATED:20260113T201711Z
LAST-MODIFIED:20260113T201711Z
UID:79072-1774731600-1774737000@saf-astronomie.fr
SUMMARY:Le modèle cosmologique standard a-t-il atteint ses limites ?
DESCRIPTION:par Jean-Philippe Uzan\, astrophysicien IAP \nConférence organisée par l’Uranoscope de l’Île de France. \nEntrée libre. \nVignette : NASA/WMAP
URL:https://saf-astronomie.fr/event/le-modele-cosmologique-standard-a-t-il-atteint-ses-limites/
LOCATION:Uranoscope de l’Île-de-France\, Allée Camille Flammarion\, Gretz-Armainvilliers\, 77220
CATEGORIES:Conférences
ATTACH;FMTTYPE=image/jpeg:https://saf-astronomie.fr/wp-content/uploads/2025/08/λcdm-845x475-1.jpg
END:VEVENT
BEGIN:VEVENT
DTSTART;TZID=Europe/Paris:20260328T093000
DTEND;TZID=Europe/Paris:20260328T170000
DTSTAMP:20260421T040732
CREATED:20260112T093049Z
LAST-MODIFIED:20260112T093414Z
UID:79050-1774690200-1774717200@saf-astronomie.fr
SUMMARY:Réunion CED
DESCRIPTION:Réunion de printemps de la Commission des étoiles doubles. \nAu siège et sur zoom. \nVignette : ESO/spaceengine.org
URL:https://saf-astronomie.fr/event/reunion-ced/
LOCATION:Siège de la SAF\, 3 rue Beethoven\, Paris\, 75016
CATEGORIES:Commissions
ATTACH;FMTTYPE=image/png:https://saf-astronomie.fr/wp-content/uploads/2026/01/CED-845x475-1.png
END:VEVENT
BEGIN:VEVENT
DTSTART;TZID=Europe/Paris:20260325T203000
DTEND;TZID=Europe/Paris:20260325T220000
DTSTAMP:20260421T040732
CREATED:20260116T211202Z
LAST-MODIFIED:20260116T211202Z
UID:79140-1774470600-1774476000@saf-astronomie.fr
SUMMARY:Avatar – Exploration scientifique de Pandora
DESCRIPTION:par Roland Lehoucq\, astrophysicien CEA et président de la SAF et Jean-Sébastien Steyer\, paléontologue au Muséum national d’Histoire naturelle de Paris. \nConférence organisée par l’Espace des sciences de Morlaix. \nEntrée libre. \nVignette : NASA/JPL-Caltech
URL:https://saf-astronomie.fr/event/avatar-exploration-scientifique-de-pandora-morlaix/
LOCATION:Lango\, Parc des expositions\, ZA de Langolvas\, Garlan\, 29610
CATEGORIES:Conférences,Régions
ATTACH;FMTTYPE=image/png:https://saf-astronomie.fr/wp-content/uploads/2026/01/Cygnus-nebula-845x475-1.png
END:VEVENT
BEGIN:VEVENT
DTSTART;TZID=Europe/Paris:20260324T203000
DTEND;TZID=Europe/Paris:20260324T220000
DTSTAMP:20260421T040732
CREATED:20260116T205524Z
LAST-MODIFIED:20260116T210207Z
UID:79127-1774384200-1774389600@saf-astronomie.fr
SUMMARY:Avatar - Exploration scientifique de Pandora
DESCRIPTION:par Roland Lehoucq\, astrophysicien CEA et président de la SAF et Jean-Sébastien Steyer\, paléontologue au Muséum national d’Histoire naturelle de Paris. \nConférence organisée par l’Espace des sciences de Rennes. \nEntrée libre. \nVignette : NASA/JPL-Caltech
URL:https://saf-astronomie.fr/event/avatar-exploration-scientifique-de-pandora/
LOCATION:Les Champs Libres – Rennes\, 10 cours des Alliés\, Rennes\, 35000
CATEGORIES:Conférences,Régions
ATTACH;FMTTYPE=image/png:https://saf-astronomie.fr/wp-content/uploads/2026/01/Cygnus-nebula-845x475-1.png
END:VEVENT
BEGIN:VEVENT
DTSTART;TZID=Europe/Paris:20260321T100000
DTEND;TZID=Europe/Paris:20260321T180000
DTSTAMP:20260421T040732
CREATED:20260309T104907Z
LAST-MODIFIED:20260309T104907Z
UID:80339-1774087200-1774116000@saf-astronomie.fr
SUMMARY:Camille Flammarion\, ce méconnu
DESCRIPTION:Colloque international\, organisé par David Valls-Gabaud\, Philippe Morel et Laurent Dongé\, membres de la SAF. \nInformations et inscriptions : indico.obspm.fr/e/flammarion \nProgramme
URL:https://saf-astronomie.fr/event/camille-flammarion-ce-meconnu/
LOCATION:Conservatoire national des arts et métiers (CNAM)\, 292 rue Saint Martin\, Paris\, 75003
CATEGORIES:Conférences
ATTACH;FMTTYPE=image/jpeg:https://saf-astronomie.fr/wp-content/uploads/2025/07/Camille-Flammarion-845x475-1.jpg
END:VEVENT
BEGIN:VEVENT
DTSTART;TZID=Europe/Paris:20260321T083000
DTEND;TZID=Europe/Paris:20260321T190000
DTSTAMP:20260421T040732
CREATED:20251206T081255Z
LAST-MODIFIED:20251206T081338Z
UID:78391-1774081800-1774119600@saf-astronomie.fr
SUMMARY:Journée de l'occasion en astronomie
DESCRIPTION:Le grand marché de l’occasion en astronomie destiné aux amateurs et aux professionnels. Venez vendre\, échanger\, discuter ou vous former. Instruments\, accessoires\, informatique\, livres\, photos\, etc… Ateliers techniques et démonstrations. \nÉvénement organisé par la Société des sciences naturelles de Bourgoin-Jallieu avec plusieurs partenaires dont la SAF et l’Astronomie\, à Saint Albin de Vaulserre (38480). \njoa.space \n\nVignette : NASA\, ESA
URL:https://saf-astronomie.fr/event/journee-de-loccasion-en-astronomie/
LOCATION:Saint Albin de Vaulserre\, 38480
CATEGORIES:Régions,Rencontres et observations
ATTACH;FMTTYPE=image/png:https://saf-astronomie.fr/wp-content/uploads/2024/11/ngc1850-845x475-1.png
END:VEVENT
BEGIN:VEVENT
DTSTART;VALUE=DATE:20260321
DTEND;VALUE=DATE:20260323
DTSTAMP:20260421T040732
CREATED:20251019T131839Z
LAST-MODIFIED:20251019T131839Z
UID:77796-1774051200-1774223999@saf-astronomie.fr
SUMMARY:Réunion de la Commission histoire
DESCRIPTION:Réunion de printemps. Au siège et à distance. \nVignette : ESO/G. Beccari
URL:https://saf-astronomie.fr/event/reunion-de-la-commission-histoire/
LOCATION:Siège de la SAF\, 3 rue Beethoven\, Paris\, 75016
CATEGORIES:Commissions
ATTACH;FMTTYPE=image/png:https://saf-astronomie.fr/wp-content/uploads/2024/09/NGC-3532-845x475-1.png
END:VEVENT
BEGIN:VEVENT
DTSTART;TZID=Europe/Paris:20260319T190000
DTEND;TZID=Europe/Paris:20260319T200000
DTSTAMP:20260421T040732
CREATED:20250916T190923Z
LAST-MODIFIED:20250916T191925Z
UID:77386-1773946800-1773950400@saf-astronomie.fr
SUMMARY:Le système solaire et ses petits corps
DESCRIPTION:Cours de Danielle Briot \n#7 Les comètes \nInscription : https://saf-astronomie.fr/cours/ \nVignette : NASA
URL:https://saf-astronomie.fr/event/le-systeme-solaire-et-ses-petits-corps-7/
LOCATION:Siège de la SAF\, 3 rue Beethoven\, Paris\, 75016
CATEGORIES:Cours et ateliers
ATTACH;FMTTYPE=image/jpeg:https://saf-astronomie.fr/wp-content/uploads/2025/08/nasa-solar-system-845x475-1.jpeg
END:VEVENT
BEGIN:VEVENT
DTSTART;TZID=Europe/Paris:20260318T203000
DTEND;TZID=Europe/Paris:20260318T220000
DTSTAMP:20260421T040732
CREATED:20260212T182016Z
LAST-MODIFIED:20260212T182016Z
UID:79930-1773865800-1773871200@saf-astronomie.fr
SUMMARY:Une histoire populaire de l’Univers
DESCRIPTION:par Jean-Philippe Uzan\, cosmologiste\, Institut d’astrophysique de Paris \nConférence organisée par l’Espace Mendès France. \nGratuit\, sur réservation. \nVignette : NASA\, ESA\, Bruce Balick (UWashington)
URL:https://saf-astronomie.fr/event/une-histoire-populaire-de-lunivers/
LOCATION:Espace Mendès France\, 1 Place de la Cathédrale\, Poitiers\, 86000
CATEGORIES:Conférences,Régions
ATTACH;FMTTYPE=image/png:https://saf-astronomie.fr/wp-content/uploads/2026/02/CRL-2688-845x475-1.png
END:VEVENT
BEGIN:VEVENT
DTSTART;TZID=Europe/Paris:20260314T143000
DTEND;TZID=Europe/Paris:20260314T170000
DTSTAMP:20260421T040732
CREATED:20260222T135428Z
LAST-MODIFIED:20260222T135428Z
UID:80117-1773498600-1773507600@saf-astronomie.fr
SUMMARY:Atelier comètes
DESCRIPTION:La découverte amateur de la comète C/2026 A1 (MAPS). \nAtelier des Commissions Comètes et des Techniques en Astronomie Amateur. \nAu siège de la SAF et en ligne. \nVignette : Wikipedia
URL:https://saf-astronomie.fr/event/atelier-cometes/
LOCATION:Siège de la SAF\, 3 rue Beethoven\, Paris\, 75016
CATEGORIES:Commissions
ATTACH;FMTTYPE=image/jpeg:https://saf-astronomie.fr/wp-content/uploads/2026/02/maps-845x475-1.jpg
END:VEVENT
BEGIN:VEVENT
DTSTART;TZID=Europe/Paris:20260312T190000
DTEND;TZID=Europe/Paris:20260312T200000
DTSTAMP:20260421T040732
CREATED:20251012T154401Z
LAST-MODIFIED:20251012T154401Z
UID:77667-1773342000-1773345600@saf-astronomie.fr
SUMMARY:Photométrie cycle 3
DESCRIPTION:Cours de Thierry Midavaine. \nInscription : https://saf-astronomie.fr/cours/ \nVignette : CTIO/NOIRLab/DOE/NSF/AURA
URL:https://saf-astronomie.fr/event/photometrie-cycle-3-5/
LOCATION:Siège de la SAF\, 3 rue Beethoven\, Paris\, 75016
CATEGORIES:Cours et ateliers
ATTACH;FMTTYPE=image/jpeg:https://saf-astronomie.fr/wp-content/uploads/2025/10/coma-845x475-1.jpg
END:VEVENT
BEGIN:VEVENT
DTSTART;TZID=Europe/Paris:20260311T190000
DTEND;TZID=Europe/Paris:20260311T203000
DTSTAMP:20260421T040732
CREATED:20251012T104812Z
LAST-MODIFIED:20251012T104812Z
UID:77624-1773255600-1773261000@saf-astronomie.fr
SUMMARY:Après l’ELT\, quel avenir pour la communauté astronomique européenne ESO ?
DESCRIPTION:par Roland Bacon\, astrophysicien CRAL – Observatoire de Lyon \nConférence mensuelle. \nRéservation obligatoire. \nRetransmission en direct. \nVignette : ESO
URL:https://saf-astronomie.fr/event/apres-lelt-quel-avenir-pour-la-communaute-astronomique-europeenne-eso/
LOCATION:Conservatoire national des arts et métiers (CNAM)\, 292 rue Saint Martin\, Paris\, 75003
CATEGORIES:Conférences
ATTACH;FMTTYPE=image/jpeg:https://saf-astronomie.fr/wp-content/uploads/2025/10/ELT-845x475-1.jpg
END:VEVENT
BEGIN:VEVENT
DTSTART;TZID=Europe/Paris:20260311T180000
DTEND;TZID=Europe/Paris:20260311T193000
DTSTAMP:20260421T040732
CREATED:20260222T195703Z
LAST-MODIFIED:20260222T195703Z
UID:80146-1773252000-1773257400@saf-astronomie.fr
SUMMARY:Comètes\, archives du Système solaire
DESCRIPTION:par Karl Antier\, président de la Commission Météores\, Météorites et Impactisme \nConférence organisée par l’AAAOV-APAP (Astronomes Amateurs Aixois de l’Observatoire de Vauvenargues – Amis du Planétarium d’Aix-en-Provence). \nTarif 5 €\, gratuit pour les étudiants et moins de 18 ans. \nhttps://aix-planetarium.fr/conferences-peiresc/ \nVignette : Nicolas Biver
URL:https://saf-astronomie.fr/event/cometes-archives-du-systeme-solaire/
LOCATION:Amphithéâtre de la MMSH\, 5 rue du Château de l’Horloge\, Aix-en-Provence\, 13097
CATEGORIES:Conférences,Régions
ATTACH;FMTTYPE=image/jpeg:https://saf-astronomie.fr/wp-content/uploads/2026/02/neowise-845x475-1.jpg
END:VEVENT
BEGIN:VEVENT
DTSTART;TZID=Europe/Paris:20260310T180000
DTEND;TZID=Europe/Paris:20260310T193000
DTSTAMP:20260421T040732
CREATED:20260216T124018Z
LAST-MODIFIED:20260216T124051Z
UID:80039-1773165600-1773171000@saf-astronomie.fr
SUMMARY:Énergie\, science et fiction
DESCRIPTION:par Roland Lehoucq\, astrophysicien CEA et président de la SAF \nEntrée libre. \n \nVignette : rayons X : NASA/CXC/SAO ; visible : NASA/STScI ; infrarouge : NASA-JPL-Caltech
URL:https://saf-astronomie.fr/event/energie-science-et-fiction/
LOCATION:Amphithéatre Cabannes\, 8 rue Léonard de Vinci\, Orléans\, 45100
CATEGORIES:Conférences,Régions
ATTACH;FMTTYPE=image/jpeg:https://saf-astronomie.fr/wp-content/uploads/2026/02/crabe-845x475-1.jpg
END:VEVENT
BEGIN:VEVENT
DTSTART;TZID=Europe/Paris:20260307T150000
DTEND;TZID=Europe/Paris:20260307T170000
DTSTAMP:20260421T040732
CREATED:20251201T141933Z
LAST-MODIFIED:20251201T142009Z
UID:78367-1772895600-1772902800@saf-astronomie.fr
SUMMARY:Réunion de la Commission de Cosmologie
DESCRIPTION:Jacques Fric\, vice-président de la Commission\, présentera le sujet « La fusion nucléaire\, énergie du présent ou du futur ? ». \nVignette : NASA \n 
URL:https://saf-astronomie.fr/event/reunion-de-la-commission-de-cosmologie/
CATEGORIES:Commissions
ATTACH;FMTTYPE=image/jpeg:https://saf-astronomie.fr/wp-content/uploads/2025/12/soleil-solar-orbiter-845x475-1.jpg
END:VEVENT
BEGIN:VEVENT
DTSTART;TZID=Europe/Paris:20260307T140000
DTEND;TZID=Europe/Paris:20260307T153000
DTSTAMP:20260421T040732
CREATED:20260222T184945Z
LAST-MODIFIED:20260222T184945Z
UID:80136-1772892000-1772897400@saf-astronomie.fr
SUMMARY:Des astéroïdes aux météorites\, quand le ciel nous tombe sur la tête
DESCRIPTION:par Karl Antier\, président de la Commission Météores\, Météorites et Impactisme \nDans le cadre des 25 ans de la section Astronomie de l’Association Culturelle Sportive Vinonnaise (ACSV). \nConférence suivie d’une observation publique à l’œil nu et aux instruments à 20 h 30 à l’aérodrome de Vinon-sur-Verdon. \nEntrée libre et gratuite. Informations au 04 92 78 81 68 ou acsv.83560@gmail.com \nVignette : NASA
URL:https://saf-astronomie.fr/event/des-asteroides-aux-meteorites-quand-le-ciel-nous-tombe-sur-la-tete/
LOCATION:Vinon-sur-Verdon\, 83560
CATEGORIES:Conférences,Festivités,Régions
ATTACH;FMTTYPE=image/png:https://saf-astronomie.fr/wp-content/uploads/2024/11/asteroides-845x475-1.png
END:VEVENT
END:VCALENDAR