BEGIN:VCALENDAR
VERSION:2.0
PRODID:-//Société astronomique de France - ECPv6.8.3//NONSGML v1.0//EN
CALSCALE:GREGORIAN
METHOD:PUBLISH
X-WR-CALNAME:Société astronomique de France
X-ORIGINAL-URL:https://saf-astronomie.fr
X-WR-CALDESC:Évènements pour Société astronomique de France
REFRESH-INTERVAL;VALUE=DURATION:PT1H
X-Robots-Tag:noindex
X-PUBLISHED-TTL:PT1H
BEGIN:VTIMEZONE
TZID:Europe/Paris
BEGIN:DAYLIGHT
TZOFFSETFROM:+0100
TZOFFSETTO:+0200
TZNAME:CEST
DTSTART:20260329T010000
END:DAYLIGHT
BEGIN:STANDARD
TZOFFSETFROM:+0200
TZOFFSETTO:+0100
TZNAME:CET
DTSTART:20261025T010000
END:STANDARD
END:VTIMEZONE
BEGIN:VEVENT
DTSTART;TZID=Europe/Paris:20260424T190000
DTEND;TZID=Europe/Paris:20260424T203000
DTSTAMP:20260424T013043
CREATED:20260422T173650Z
LAST-MODIFIED:20260422T173650Z
UID:81970-1777057200-1777062600@saf-astronomie.fr
SUMMARY:Destination cosmos
DESCRIPTION:par Sébastien Carassou\, astrophysicien\, auteur et vulgarisateur scientifique \nEn ligne : https://www.youtube.com/live/mHUm3m_2-uk \nRencontre organisée par la Commission Jeunes de la SAF. \n \nVignette : NASA\, ESA\, CSA\, STScI
URL:https://saf-astronomie.fr/event/destination-cosmos/
CATEGORIES:Conférences
ATTACH;FMTTYPE=image/png:https://saf-astronomie.fr/wp-content/uploads/2024/08/deep-field-845x475-1.png
END:VEVENT
END:VCALENDAR